Workbook

Sheet Stundenzettel
B1: Stundenzettel
B2: Kostenlose Vorlage von Lyria · lyria-app.com
B4: Name | F4: Kunde (optional)
B5: Monat / Zeitraum | F5: Stundensatz in €
A7: Datum | B7: Wochentag | C7: Projekt / Kunde | D7: Tätigkeit | E7: Beginn | F7: Ende | G7: Pause (Min.) | H7: Dauer (Std.) | I7: Abrechenbar | J7: Notiz
A8: 46328 | B8: =IF(A8="","",A8) | C8: Beispiel: Müller GmbH | D8: Website Startseite überarbeiten | E8: 0.375 | F8: 0.52083333 | G8: 15 | H8: =IF(OR(E8="",F8=""),"",ROUND(MAX(0,(MOD(F8-E8,1))*24-N(G8)/60),2)) | I8: Ja | J8: Diese Zeile einfach überschreiben
B9: =IF(A9="","",A9) | H9: =IF(OR(E9="",F9=""),"",ROUND(MAX(0,(MOD(F9-E9,1))*24-N(G9)/60),2))
B10: =IF(A10="","",A10) | H10: =IF(OR(E10="",F10=""),"",ROUND(MAX(0,(MOD(F10-E10,1))*24-N(G10)/60),2))
B11: =IF(A11="","",A11) | H11: =IF(OR(E11="",F11=""),"",ROUND(MAX(0,(MOD(F11-E11,1))*24-N(G11)/60),2))
B12: =IF(A12="","",A12) | H12: =IF(OR(E12="",F12=""),"",ROUND(MAX(0,(MOD(F12-E12,1))*24-N(G12)/60),2))
B13: =IF(A13="","",A13) | H13: =IF(OR(E13="",F13=""),"",ROUND(MAX(0,(MOD(F13-E13,1))*24-N(G13)/60),2))
B14: =IF(A14="","",A14) | H14: =IF(OR(E14="",F14=""),"",ROUND(MAX(0,(MOD(F14-E14,1))*24-N(G14)/60),2))
B15: =IF(A15="","",A15) | H15: =IF(OR(E15="",F15=""),"",ROUND(MAX(0,(MOD(F15-E15,1))*24-N(G15)/60),2))
B16: =IF(A16="","",A16) | H16: =IF(OR(E16="",F16=""),"",ROUND(MAX(0,(MOD(F16-E16,1))*24-N(G16)/60),2))
B17: =IF(A17="","",A17) | H17: =IF(OR(E17="",F17=""),"",ROUND(MAX(0,(MOD(F17-E17,1))*24-N(G17)/60),2))
B18: =IF(A18="","",A18) | H18: =IF(OR(E18="",F18=""),"",ROUND(MAX(0,(MOD(F18-E18,1))*24-N(G18)/60),2))
B19: =IF(A19="","",A19) | H19: =IF(OR(E19="",F19=""),"",ROUND(MAX(0,(MOD(F19-E19,1))*24-N(G19)/60),2))
B20: =IF(A20="","",A20) | H20: =IF(OR(E20="",F20=""),"",ROUND(MAX(0,(MOD(F20-E20,1))*24-N(G20)/60),2))
... B47: =IF(A47="","",A47) | H47: =IF(OR(E47="",F47=""),"",ROUND(MAX(0,(MOD(F47-E47,1))*24-N(G47)/60),2))
E49: Stunden gesamt | H49: =SUM(H8:H47)
E50: davon abrechenbar | H50: =SUMIF(I8:I47,"Ja",H8:H47)
E51: nicht abrechenbar | H51: =H49-H50
E52: Betrag abrechenbar | H52: =IF(G5="","",H50*G5)
A54: Unterschrift Mitarbeiter:in | D54: Unterschrift Auftraggeber:in / Vorgesetzte:r
A56: Tipp: In Lyria läuft die Zeiterfassung direkt an der Aufgabe mit, und die Zeiten gehen per Klick an Lexware Office oder bexio. Kostenlos testen: lyria-app.com

Sheet Auswertung
A1: Auswertung je Projekt
A2: Trage hier deine Projekte oder Kunden ein, genau so geschrieben wie im Stundenzettel.
A4: Projekt / Kunde | B4: Stunden | C4: davon abrechenbar | D4: Betrag
A5: Beispiel: Müller GmbH | B5: =IF(A5="","",SUMIF(Stundenzettel!$C$8:$C$47,A5,Stundenzettel!$H$8:$H$47)) | C5: =IF(A5="","",SUMIFS(Stundenzettel!$H$8:$H$47,Stundenzettel!$C$8:$C$47,A5,Stundenzettel!$I$8:$I$47,"Ja")) | D5: =IF(OR(A5="",Stundenzettel!$G$5=""),"",C5*Stundenzettel!$G$5)
B6: =IF(A6="","",SUMIF(Stundenzettel!$C$8:$C$47,A6,Stundenzettel!$H$8:$H$47)) | C6: =IF(A6="","",SUMIFS(Stundenzettel!$H$8:$H$47,Stundenzettel!$C$8:$C$47,A6,Stundenzettel!$I$8:$I$47,"Ja")) | D6: =IF(OR(A6="",Stundenzettel!$G$5=""),"",C6*Stundenzettel!$G$5)
B7: =IF(A7="","",SUMIF(Stundenzettel!$C$8:$C$47,A7,Stundenzettel!$H$8:$H$47)) | C7: =IF(A7="","",SUMIFS(Stundenzettel!$H$8:$H$47,Stundenzettel!$C$8:$C$47,A7,Stundenzettel!$I$8:$I$47,"Ja")) | D7: =IF(OR(A7="",Stundenzettel!$G$5=""),"",C7*Stundenzettel!$G$5)
B8: =IF(A8="","",SUMIF(Stundenzettel!$C$8:$C$47,A8,Stundenzettel!$H$8:$H$47)) | C8: =IF(A8="","",SUMIFS(Stundenzettel!$H$8:$H$47,Stundenzettel!$C$8:$C$47,A8,Stundenzettel!$I$8:$I$47,"Ja")) | D8: =IF(OR(A8="",Stundenzettel!$G$5=""),"",C8*Stundenzettel!$G$5)
B9: =IF(A9="","",SUMIF(Stundenzettel!$C$8:$C$47,A9,Stundenzettel!$H$8:$H$47)) | C9: =IF(A9="","",SUMIFS(Stundenzettel!$H$8:$H$47,Stundenzettel!$C$8:$C$47,A9,Stundenzettel!$I$8:$I$47,"Ja")) | D9: =IF(OR(A9="",Stundenzettel!$G$5=""),"",C9*Stundenzettel!$G$5)
B10: =IF(A10="","",SUMIF(Stundenzettel!$C$8:$C$47,A10,Stundenzettel!$H$8:$H$47)) | C10: =IF(A10="","",SUMIFS(Stundenzettel!$H$8:$H$47,Stundenzettel!$C$8:$C$47,A10,Stundenzettel!$I$8:$I$47,"Ja")) | D10: =IF(OR(A10="",Stundenzettel!$G$5=""),"",C10*Stundenzettel!$G$5)
B11: =IF(A11="","",SUMIF(Stundenzettel!$C$8:$C$47,A11,Stundenzettel!$H$8:$H$47)) | C11: =IF(A11="","",SUMIFS(Stundenzettel!$H$8:$H$47,Stundenzettel!$C$8:$C$47,A11,Stundenzettel!$I$8:$I$47,"Ja")) | D11: =IF(OR(A11="",Stundenzettel!$G$5=""),"",C11*Stundenzettel!$G$5)
B12: =IF(A12="","",SUMIF(Stundenzettel!$C$8:$C$47,A12,Stundenzettel!$H$8:$H$47)) | C12: =IF(A12="","",SUMIFS(Stundenzettel!$H$8:$H$47,Stundenzettel!$C$8:$C$47,A12,Stundenzettel!$I$8:$I$47,"Ja")) | D12: =IF(OR(A12="",Stundenzettel!$G$5=""),"",C12*Stundenzettel!$G$5)
B13: =IF(A13="","",SUMIF(Stundenzettel!$C$8:$C$47,A13,Stundenzettel!$H$8:$H$47)) | C13: =IF(A13="","",SUMIFS(Stundenzettel!$H$8:$H$47,Stundenzettel!$C$8:$C$47,A13,Stundenzettel!$I$8:$I$47,"Ja")) | D13: =IF(OR(A13="",Stundenzettel!$G$5=""),"",C13*Stundenzettel!$G$5)
B14: =IF(A14="","",SUMIF(Stundenzettel!$C$8:$C$47,A14,Stundenzettel!$H$8:$H$47)) | C14: =IF(A14="","",SUMIFS(Stundenzettel!$H$8:$H$47,Stundenzettel!$C$8:$C$47,A14,Stundenzettel!$I$8:$I$47,"Ja")) | D14: =IF(OR(A14="",Stundenzettel!$G$5=""),"",C14*Stundenzettel!$G$5)
B15: =IF(A15="","",SUMIF(Stundenzettel!$C$8:$C$47,A15,Stundenzettel!$H$8:$H$47)) | C15: =IF(A15="","",SUMIFS(Stundenzettel!$H$8:$H$47,Stundenzettel!$C$8:$C$47,A15,Stundenzettel!$I$8:$I$47,"Ja")) | D15: =IF(OR(A15="",Stundenzettel!$G$5=""),"",C15*Stundenzettel!$G$5)
B16: =IF(A16="","",SUMIF(Stundenzettel!$C$8:$C$47,A16,Stundenzettel!$H$8:$H$47)) | C16: =IF(A16="","",SUMIFS(Stundenzettel!$H$8:$H$47,Stundenzettel!$C$8:$C$47,A16,Stundenzettel!$I$8:$I$47,"Ja")) | D16: =IF(OR(A16="",Stundenzettel!$G$5=""),"",C16*Stundenzettel!$G$5)
A18: Summe | B18: =SUM(B5:B16) | C18: =SUM(C5:C16) | D18: =SUM(D5:D16)

Sheet So geht's
B1: So nutzt du den Stundenzettel
A3: 1. | B3: Oben Name, Zeitraum und, wenn du für Kunden arbeitest, deinen Stundensatz eintragen.
A4: 2. | B4: Pro Arbeitsblock eine Zeile: Datum, Projekt oder Kunde, was du gemacht hast, Beginn und Ende als Uhrzeit (zum Beispiel 9:00).
A5: 3. | B5: Pause in Minuten eintragen. Die Dauer rechnet die Vorlage selbst aus, auch über Mitternacht.
A6: 4. | B6: In der Spalte Abrechenbar Ja oder Nein auswählen. Unten siehst du die Summen und den Betrag.
A7: 5. | B7: Im Blatt Auswertung die Projektnamen eintragen, dann stehen dort die Stunden je Projekt.
A8: 6. | B8: Zum Drucken ist die Seite auf A4 quer eingestellt. Die Beispielzeile einfach überschreiben oder löschen.
B11: Lieber ohne Tabelle? In Lyria startest du die Zeit direkt an der Aufgabe, siehst die Stunden je Projekt und übergibst sie per Klick an Lexware Office oder bexio.
B12: Kostenlos starten: https://www.lyria-app.com/de/signup/
